BEGIN:VCALENDAR
VERSION:2.0
PRODID:-//Contratero//ES
CALSCALE:GREGORIAN
METHOD:PUBLISH
BEGIN:VEVENT
UID:PA 23/2025@contratero.es
DTSTAMP:20260419T214435Z
DTSTART:20250114T235959
DTEND:20250115T005959
SUMMARY:Cierre: Servicio integral para la retransmisión de plenos
DESCRIPTION:Servicio integral para la retransmisión de plenos\\n\\nOrganismo: Concejal de Contratación del Ayuntamiento de Torrejón de Ardoz\\n\\nVer en Contratero: https://contratero.es/contracts/PA 23/2025
URL:https://contratero.es/contracts/PA 23/2025
STATUS:CONFIRMED
BEGIN:VALARM
TRIGGER:-P1D
ACTION:DISPLAY
DESCRIPTION:Recordatorio: Servicio integral para la retr
END:VALARM
END:VEVENT
END:VCALENDAR